BEGIN:VCALENDAR
VERSION:2.0
PRODID:-//chikkutakku.com//RDFCal 1.0//EN
X-WR-CALDESC:GoogleカレンダーやiCalendar形式情報を共有シェ
 アしましょう。近所のイベントから全国のイベントま
 で今日のイベント検索やスケジュールを決めるならち
 っくたっく
X-WR-CALNAME:ちっくたっく
X-WR-TIMEZONE:UTC
BEGIN:VEVENT
SUMMARY:ICS 200-Camrose
DTSTART;VALUE=DATE-TIME:20260505T143000Z
DTEND;VALUE=DATE-TIME:20260506T220000Z
UID:100516557574
DESCRIPTION:Location:\n4336 41 St\, \nCamrose\, AB\n\nContact:\nCalvin De
 lisle\, Regional Field Officer\n587-784-1137\ncalvin.delisle@gov.ab.ca\n\n
 Notes: Open to EM partners\n\n**Pre-requisite: ICS 100 from an approved pr
 ovider.**
LOCATION:4336 41 St\, Camrose\, AB T4V 4E5\, Canada
END:VEVENT
END:VCALENDAR
