BEGIN:VCALENDAR
VERSION:2.0
PRODID:-//chikkutakku.com//RDFCal 1.0//EN
X-WR-CALDESC:GoogleカレンダーやiCalendar形式情報を共有シェ
 アしましょう。近所のイベントから全国のイベントま
 で今日のイベント検索やスケジュールを決めるならち
 っくたっく
X-WR-CALNAME:ちっくたっく
X-WR-TIMEZONE:UTC
BEGIN:VEVENT
SUMMARY:高嶺の花扱いされる悪役令嬢ですが、本音はめち
 ゃくちゃ恋したい 2
DTSTART;VALUE=DATE:20260517
DTEND;VALUE=DATE:20260518
UID:100825273644
DESCRIPTION:2026-05-18高嶺の花扱いされる悪役令嬢ですが、
 本音はめちゃくちゃ恋したい 2来栖 千依/炬 とうや文藝
 春秋
LOCATION:
END:VEVENT
END:VCALENDAR
