BEGIN:VCALENDAR
VERSION:2.0
PRODID:-//chikkutakku.com//RDFCal 1.0//EN
X-WR-CALDESC:GoogleカレンダーやiCalendar形式情報を共有シェ
 アしましょう。近所のイベントから全国のイベントま
 で今日のイベント検索やスケジュールを決めるならち
 っくたっく
X-WR-CALNAME:ちっくたっく
X-WR-TIMEZONE:UTC
BEGIN:VEVENT
SUMMARY:Catalyst Financial & Insurance Lunch & Learn)
DTSTART;VALUE=DATE-TIME:20260519T200000Z
DTEND;VALUE=DATE-TIME:20260519T210000Z
UID:100967898415
DESCRIPTION:Catalyst Financial & Insurance Lunch & Learn)
LOCATION:514
END:VEVENT
END:VCALENDAR
