BEGIN:VCALENDAR
VERSION:2.0
PRODID:-//chikkutakku.com//RDFCal 1.0//EN
X-WR-CALDESC:GoogleカレンダーやiCalendar形式情報を共有シェ
 アしましょう。近所のイベントから全国のイベントま
 で今日のイベント検索やスケジュールを決めるならち
 っくたっく
X-WR-CALNAME:ちっくたっく
X-WR-TIMEZONE:UTC
BEGIN:VEVENT
SUMMARY:第62回巨摩高校吹奏楽部定期演奏会　準備・リハ
 ーサル
DTSTART;VALUE=DATE-TIME:20260509T080000Z
DTEND;VALUE=DATE-TIME:20260509T080000Z
UID:101309975011
DESCRIPTION:
LOCATION:桃源ホール @ 山梨県南アルプス市飯野2971
END:VEVENT
END:VCALENDAR
