BEGIN:VCALENDAR
VERSION:2.0
PRODID:-//chikkutakku.com//RDFCal 1.0//EN
X-WR-CALDESC:GoogleカレンダーやiCalendar形式情報を共有シェ
 アしましょう。近所のイベントから全国のイベントま
 で今日のイベント検索やスケジュールを決めるならち
 っくたっく
X-WR-CALNAME:ちっくたっく
X-WR-TIMEZONE:UTC
BEGIN:VEVENT
SUMMARY:Celebration of Life for Dolly Caswell
DTSTART;VALUE=DATE-TIME:20260425T220000Z
DTEND;VALUE=DATE-TIME:20260425T230000Z
UID:101689117196
DESCRIPTION:All are welcome to join the Caswell & church family in celebra
 ting the life of Dolly Caswell at a service here at Eagle River Grace on S
 aturday\, April 25\, at 2:00pm\, followed by a fruit & dessert reception.
LOCATION:
END:VEVENT
END:VCALENDAR
