BEGIN:VCALENDAR
VERSION:2.0
PRODID:-//chikkutakku.com//RDFCal 1.0//EN
X-WR-CALDESC:GoogleカレンダーやiCalendar形式情報を共有シェ
 アしましょう。近所のイベントから全国のイベントま
 で今日のイベント検索やスケジュールを決めるならち
 っくたっく
X-WR-CALNAME:ちっくたっく
X-WR-TIMEZONE:UTC
BEGIN:VEVENT
SUMMARY:Tutor:  Whole School Hymn Practice
DTSTART;VALUE=DATE-TIME:20260521T060000Z
DTEND;VALUE=DATE-TIME:20260521T064500Z
UID:102135581432
DESCRIPTION:Tutor:  Whole School Hymn Practice
LOCATION:Hofmeyr Hall\, Main Hall
END:VEVENT
END:VCALENDAR
