BEGIN:VCALENDAR
VERSION:2.0
PRODID:-//chikkutakku.com//RDFCal 1.0//EN
X-WR-CALDESC:GoogleカレンダーやiCalendar形式情報を共有シェ
 アしましょう。近所のイベントから全国のイベントま
 で今日のイベント検索やスケジュールを決めるならち
 っくたっく
X-WR-CALNAME:ちっくたっく
X-WR-TIMEZONE:UTC
BEGIN:VEVENT
SUMMARY:【注】銀河鉄道999 #36 大酋長サイクロプロス / #37 
 ミーくんの命の館 / #38 卑怯者の長老帝国 / #39 霧の都の
 カスミ / #40 球状住宅団の大酋長 前編 / #41 球状住宅団
 の大酋長 後編 / #42 フイメールの思い出
DTSTART;VALUE=DATE-TIME:20260420T220000Z
DTEND;VALUE=DATE-TIME:20260421T013000Z
UID:102168008353
DESCRIPTION: / #36 大酋長サイクロプロス / #37 ミーくんの命
 の館 / #38 卑怯者の長老帝国 / #39 霧の都のカスミ / #40 
 球状住宅団の大酋長 前編 / #41 球状住宅団の大酋長 後
 編 / #42 フイメールの思い出 / https://abema.tv/channels/80s-anim
 e-1/slots/Aod7KdtTCaxtKy リピート放送は 22:30～ https://abema.tv/c
 hannels/80s-anime-1/slots/Aod7HpRLFCrweo (無料TS1週間) https://prtimes
 .jp/main/html/rd/p/000003026.000064643.html
LOCATION:なつかしアニメ80's
END:VEVENT
END:VCALENDAR
