BEGIN:VCALENDAR
VERSION:2.0
PRODID:-//chikkutakku.com//RDFCal 1.0//EN
X-WR-CALDESC:GoogleカレンダーやiCalendar形式情報を共有シェ
 アしましょう。近所のイベントから全国のイベントま
 で今日のイベント検索やスケジュールを決めるならち
 っくたっく
X-WR-CALNAME:ちっくたっく
X-WR-TIMEZONE:UTC
BEGIN:VEVENT
SUMMARY:仮面ライダースーパー1 #14 「ドグマ全滅？悪魔博
 士の笑いガス」
DTSTART;VALUE=DATE-TIME:20260424T100000Z
DTEND;VALUE=DATE-TIME:20260424T103000Z
UID:102378500482
DESCRIPTION:14 / ドグマ全滅？悪魔博士の笑いガス / 
LOCATION:TOKYO MX
END:VEVENT
END:VCALENDAR
