BEGIN:VCALENDAR
VERSION:2.0
PRODID:-//chikkutakku.com//RDFCal 1.0//EN
X-WR-CALDESC:GoogleカレンダーやiCalendar形式情報を共有シェ
 アしましょう。近所のイベントから全国のイベントま
 で今日のイベント検索やスケジュールを決めるならち
 っくたっく
X-WR-CALNAME:ちっくたっく
X-WR-TIMEZONE:UTC
BEGIN:VEVENT
SUMMARY:マンガ爆速インストール！ 教科書の日本文学を
 ぎゅっと要約
DTSTART;VALUE=DATE:20260427
DTEND;VALUE=DATE:20260428
UID:102484177951
DESCRIPTION:2026-04-28マンガ爆速インストール！ 教科書の日
 本文学をぎゅっと要約高橋大成えほんの杜
LOCATION:
END:VEVENT
END:VCALENDAR
