BEGIN:VCALENDAR
VERSION:2.0
PRODID:-//chikkutakku.com//RDFCal 1.0//EN
X-WR-CALDESC:GoogleカレンダーやiCalendar形式情報を共有シェ
 アしましょう。近所のイベントから全国のイベントま
 で今日のイベント検索やスケジュールを決めるならち
 っくたっく
X-WR-CALNAME:ちっくたっく
X-WR-TIMEZONE:UTC
BEGIN:VEVENT
SUMMARY:【個室なでなで】Bar_Sucre【初心者歓迎】
DTSTART;VALUE=DATE-TIME:20260423T130000Z
DTEND;VALUE=DATE-TIME:20260423T140000Z
UID:102574916776
DESCRIPTION:【イベント主催者】\n　Gokutyo_SG  :  @Goku_VRC\n【
 イベント内容】\n　「人と人を繋ぐ」をコンセプトとし
 た交流型のイベントです！\n当バー限定のオリジナルの
 カクテルを注文して、キャストさんとお話しして素敵
 な夜を過ごしましょう~！！✨\nまるでフレ⁺のような
 ゆるいほのぼの雰囲気でお話ししましょう！\n個室のな
 でなで接客もございます！興味がある方は10分ごろに抽
 選がございますので間に合うようにお越しください！
 👐\n【イベントジャンル】\n　VR飲み会\, 初心者向けイ
 ベント\, 定期イベント\n【参加条件（モデル、人数制限
 など）】\n　禁止事項\n・迷惑行為（大音量、視界ジャ
 ックなど含む）\n・妨害行為\n・無断での録画（一言お
 声掛けください）\n・暴言・不適切な発言\n・不適切な
 接触や露出行為\n・スタッフに対する過度な接触行為（
 スタッフが許可する範囲は除く）\n・不適切なアバター
 （版権や裸体など）\n・VRChatの規約に抵触するような行
 為\n・その他スタッフが不適切だと判断した行為\n【参
 加方法】\n　グループ「Sucre(ID:SUCRE.8534)」に参加し、Grou
 p＋インスタンスにjoin\nまたは「Gokutyo_SG」にフレンドリ
 クエストを送信後、インスタンスへjoin\n【備考】\n　グ
 ループのリンク : https://vrc.group/SUCRE.8534\nオーナー、「Go
 kutyo_SG」のユーザーリンク : https://vrchat.com/home/user/usr_be9
 04595-bdcc-454c-af8b-7c6f59541bbb
LOCATION:
END:VEVENT
END:VCALENDAR
