BEGIN:VCALENDAR
VERSION:2.0
PRODID:-//chikkutakku.com//RDFCal 1.0//EN
X-WR-CALDESC:GoogleカレンダーやiCalendar形式情報を共有シェ
 アしましょう。近所のイベントから全国のイベントま
 で今日のイベント検索やスケジュールを決めるならち
 っくたっく
X-WR-CALNAME:ちっくたっく
X-WR-TIMEZONE:UTC
BEGIN:VEVENT
SUMMARY:EY3-Y5 Assembly
DTSTART;VALUE=DATE-TIME:20260521T200000Z
DTEND;VALUE=DATE-TIME:20260521T210000Z
UID:102582660927
DESCRIPTION:通过 Google Meet 加入：https://meet.google.com/qxh-sykb-a
 hw\n或者拨打以下号码：(US) +1 781-514-9281 PIN 码： 784165468#\
 n\n如需详细了解 Google Meet，请访问：https://support.google.com
 /a/users/answer/9282720
LOCATION:
END:VEVENT
END:VCALENDAR
