BEGIN:VCALENDAR
VERSION:2.0
PRODID:-//chikkutakku.com//RDFCal 1.0//EN
X-WR-CALDESC:GoogleカレンダーやiCalendar形式情報を共有シェ
 アしましょう。近所のイベントから全国のイベントま
 で今日のイベント検索やスケジュールを決めるならち
 っくたっく
X-WR-CALNAME:ちっくたっく
X-WR-TIMEZONE:UTC
BEGIN:VEVENT
SUMMARY:St. Athanasius of Alexandria
DTSTART;VALUE=DATE-TIME:20260430T183000Z
DTEND;VALUE=DATE-TIME:20260501T183000Z
UID:103825783723
DESCRIPTION:May 1st is the commemoration of the dukhrono of St. Athanasius
  of Alexandria (St. Athanasius the Great) according to the Liturgical Cale
 ndar of the Syriac Orthodox Church. Mor Athanasius was born in AD295 to we
 althy Christian parents. He studied Theology &amp\; Greek mythology. He li
 ved some years with St. Antony in the deserts spending time in prayers &am
 p\; meditation. He has also written the biography of the saint.He was orda
 ined a deacon in AD 319 by Patriarch Alexander &amp\; he served him as his
  secretary. At the time Arius\, an old priest in Alexandria\, taught that 
 Jesus was not fully divine but he was only similar to God &amp\; was creat
 ed at the beginning of creation. In AD325 the Ecumenical Council held in N
 icaea put Arius on trial &amp\; denounced him. The council confirmed the e
 rror of his teaching. The primary opponent was deacon Athanasius who worke
 d as the secretary of Patriarch Alexander in this Council. Upon the demise
  of Patriarch Alexander in AD328\, Athanasius who was only 33 at that time
  ascended the throne. There were many allegations against him &amp\; he wa
 s banished five times. There were even attempts on his life. The Arius fac
 tion severed the arm of a dead man to be presented as a proof that it was 
 the right arm of Episcopo Arsanios who was murdered by Athanasius. Their a
 llegations were proved baseless when Arsanius himself was presented before
  them.A Synod at Tyre excommunicated him. Two years later he returned to t
 he diocese. Again in AD339\, a synod with the connivance of Eusebius\, bis
 hop of Nicomedia\, banished him. He was given sanctuary by Mor Yulios of R
 ome. The Serdica synod in AD343 re-established him in his ecclesiastical r
 ights &amp\; declared him the lawful Patriarch of Alexandria. His episcopa
 te lasted for forty five years till AD 373. Of these he had spent seventee
 n years in hiding\, in deserts &amp\; in foreign countries. In spite of al
 l the trials he succeeded in transferring true faith to the next generatio
 n.Mor Athanasius is commemorated every Sunday in the Thubden d-Qadishe (5t
 h Thubden/Dypthic) of the Syriac Orthodox Church Holy Qurbono. Biography a
 dapted from 'Martyrs\, Saints &amp\; Prelates of the Syriac Orthodox Churc
 h' Oh Mor Athanasius! Plead for the Holy Church\, that her children and hi
 erarchy remain steadfast in the true faith always! Amen.https://urhotheway
 .com/2020/08/18/st-athanasius/St. Severus the Great of Antioch Cathedral H
 omily # 91BL17134
LOCATION:
END:VEVENT
END:VCALENDAR
