BEGIN:VCALENDAR
VERSION:2.0
PRODID:-//chikkutakku.com//RDFCal 1.0//EN
X-WR-CALDESC:GoogleカレンダーやiCalendar形式情報を共有シェ
 アしましょう。近所のイベントから全国のイベントま
 で今日のイベント検索やスケジュールを決めるならち
 っくたっく
X-WR-CALNAME:ちっくたっく
X-WR-TIMEZONE:UTC
BEGIN:VEVENT
SUMMARY:【注】REBORN! #171 リベンジ / #172 桔梗強襲 / #173 チ
 ョイス決着！ / #174 未来の真相 / #175 ユニ光臨 / #176 脱
 出 / #177 戦いの後 / #178 I世(プリーモ)ファミリー来る！ 
 / #179 継承・開始
DTSTART;VALUE=DATE-TIME:20260421T190000Z
DTEND;VALUE=DATE-TIME:20260421T233000Z
UID:104140938632
DESCRIPTION: / #171 リベンジ / #172 桔梗強襲 / #173 チョイス
 決着！ / #174 未来の真相 / #175 ユニ光臨 / #176 脱出 / #177 
 戦いの後 / #178 I世(プリーモ)ファミリー来る！ / #179 継
 承・開始 / https://abema.tv/channels/00s-anime-1/slots/EvABP2iXh2tfjV 
 リピート放送は 4/22(水) 8:30～ https://abema.tv/channels/00s-anim
 e-1/slots/Ah77nw7JeKeNbH 、4/22(水) 17:30～ https://abema.tv/channels/0
 0s-anime-1/slots/Ah77q43X57MNej (無料TS1週間) https://prtimes.jp/main/
 html/rd/p/000002968.000064643.html
LOCATION:なつかしアニメ00's
END:VEVENT
END:VCALENDAR
