BEGIN:VCALENDAR
VERSION:2.0
PRODID:-//chikkutakku.com//RDFCal 1.0//EN
X-WR-CALDESC:GoogleカレンダーやiCalendar形式情報を共有シェ
 アしましょう。近所のイベントから全国のイベントま
 で今日のイベント検索やスケジュールを決めるならち
 っくたっく
X-WR-CALNAME:ちっくたっく
X-WR-TIMEZONE:UTC
BEGIN:VEVENT
SUMMARY:フォシュニアCafe～ほるん～
DTSTART;VALUE=DATE-TIME:20260426T130000Z
DTEND;VALUE=DATE-TIME:20260426T140000Z
UID:104696116835
DESCRIPTION:【イベント主催者】\n　ふわふわらて あぢさ
 ゐ\n【イベント内容】\n　かわいい、かっこいいフォシ
 ュニア達による小さなカフェです。個性溢れるフォシ
 ュニア達に囲まれて優雅な時間をお過ごしください。\n
 \n【イベントジャンル】\n　店舗系イベント\, 定期イベ
 ント\n【参加条件（モデル、人数制限など）】\n　*ルー
 ル*\n\n1.良俗に反しないお姿でご来店ください。\n\n2.権
 利者の許可なくアップロードされたアバター、性的特
 徴を備えているにもかかわらず過度な露出をしている
 など、公共の場にふさわしくないと判断したアバター
 については変更をお願いする場合があります。\n\n3.巨
 大なアバター、大音量、視界ハック、過度なパーティ
 クルなど、他のゲストやイベント運営の妨げとなる行
 為はご遠慮ください。\n\n4.ナンパ行為やセクハラなど
 、他のゲストやスタッフに対し過度なコミュニケーシ
 ョン、スキンシップを行うことはご遠慮ください。\n\n5
 .公序良俗に反する行為は禁止です。\n\n6.配信は現段階
 では禁止。※今後スタッフ人数が増え次第、配信可能
 専用インスタンスを作る可能性があります。\n\n7.お客
 様の使用アバターは必ずケモノアバターである必要は
 ありません。上記の2・3のルールに違反していないアバ
 ターであればご利用いただけます。 \n\n8. 海外のお客様
 について。対応できるスタッフに限りがあります。対
 応できる方が率先して対応します。 \n\n\n9.連絡先につ
 いて、公式X（@VRC_Foshucafe）のDM、又は主催XのDMふわふわ
 らて（@Fuwatoro_Rate）あぢさゐ（@azisai2309）にお願いしま
 す。\n\n上記以外にも、スタッフが不適切と判断した場
 合は、お声掛け、キック等をさせていただきます。\n”
 In order to join this event ‚ you must be able to communicate in basic J
 apanese‚ so please understand․ “\n\n【参加方法】\n　以下の
 「フォシュニアCafe～ほるん～」のグループに参加し、
 時間になったらグループインスタンスにジョイン!\n\nhtt
 ps://vrchat.com/home/group/grp_2202a01b-c965-4af7-82f0-a273f17a8351\n\n【
 備考】\n　
LOCATION:
END:VEVENT
END:VCALENDAR
