BEGIN:VCALENDAR
VERSION:2.0
PRODID:-//chikkutakku.com//RDFCal 1.0//EN
X-WR-CALDESC:GoogleカレンダーやiCalendar形式情報を共有シェ
 アしましょう。近所のイベントから全国のイベントま
 で今日のイベント検索やスケジュールを決めるならち
 っくたっく
X-WR-CALNAME:ちっくたっく
X-WR-TIMEZONE:UTC
BEGIN:VEVENT
SUMMARY:～妖怪RP接客型イベント～　  [幻燈楼]
DTSTART;VALUE=DATE-TIME:20260422T133000Z
DTEND;VALUE=DATE-TIME:20260422T143000Z
UID:105223350166
DESCRIPTION:【イベント主催者】\n　幻燈楼\n【イベント内
 容】\n　──桜が散っても、春は巡る。あの宵の灯火は
 、幻へ──\n\n幻燈楼は一対一で様々な妖怪と対話する
 　接客型RPイベントです\n\n個性豊かな妖怪たちが存在
 する宴に\n\nあなたも参加してみませんか？\n\n細かい情
 報などはXにてお知らせしております。\n\n【イベントジ
 ャンル】\n　ロールプレイ\n【参加条件（モデル、人数
 制限など）】\n　４０MB以下の人型のアバタ―での参加
 を推奨しております\n\n【参加方法】\n　「千和５１」
 に事前にフレンド申請をし、時間になり次第リクイン\n
 https://vrchat.com/home/user/usr_31af0d4f-84c4-47c2-8047-fdca2ac3babb\n【
 備考】\n　https://x.com/gentourou?s=20
LOCATION:
END:VEVENT
END:VCALENDAR
