BEGIN:VCALENDAR
VERSION:2.0
PRODID:-//chikkutakku.com//RDFCal 1.0//EN
X-WR-CALDESC:GoogleカレンダーやiCalendar形式情報を共有シェ
 アしましょう。近所のイベントから全国のイベントま
 で今日のイベント検索やスケジュールを決めるならち
 っくたっく
X-WR-CALNAME:ちっくたっく
X-WR-TIMEZONE:UTC
BEGIN:VEVENT
SUMMARY:キャバクライベント【Elmeira~イルメア~】
DTSTART;VALUE=DATE-TIME:20260421T131000Z
DTEND;VALUE=DATE-TIME:20260421T142500Z
UID:105315334563
DESCRIPTION:【イベント主催者】\n　り り ー\n【イベント
 内容】\n　～泡沫の夜に、恋をして～\n\n女性のみで構
 成された本格キャバクライベント、Elmeiraの営業日です
 。\nここでしか味わえない特別な時間を、どうぞごゆっ
 くりお過ごしください。\n\n◆開催時間\n22˸10～ リクイ
 ン開始\n22˸15～ ご案内\n23˸25～ 営業終了・アフター開
 始\n【イベントジャンル】\n　店舗系イベント\, ロール
 プレイ\, 初心者向けイベント\n【参加条件（モデル、人
 数制限など）】\n　・日本語話者（無言勢可\n・Quest単
 機不可\n・40MB以下のアバターでの参加\n・迷惑行為の禁
 止\n・無許可の動画撮影、配信の禁止\n【参加方法】\n
 　事前に「り り ー」（ひらがな&文字間に半角スペー
 ス）にフレンド申請\nhttps://vrchat.com/home/user/usr_2a116e07-c22
 a-4383-b9b7-e44a57f34f7c\n22:10 「り り ー」にリクイン （1回
 まで）\n【備考】\n　最新情報は公式X（@VRC_Elmeira）にて
 お知らせしております！\nXタグ #VRC_Elmeira
LOCATION:
END:VEVENT
END:VCALENDAR
