BEGIN:VCALENDAR
VERSION:2.0
PRODID:-//chikkutakku.com//RDFCal 1.0//EN
X-WR-CALDESC:GoogleカレンダーやiCalendar形式情報を共有シェ
 アしましょう。近所のイベントから全国のイベントま
 で今日のイベント検索やスケジュールを決めるならち
 っくたっく
X-WR-CALNAME:ちっくたっく
X-WR-TIMEZONE:UTC
BEGIN:VEVENT
SUMMARY:【メイドRPイベント】Maid Cafe Senelis
DTSTART;VALUE=DATE-TIME:20260425T143000Z
DTEND;VALUE=DATE-TIME:20260425T152000Z
UID:105457196412
DESCRIPTION:【イベント主催者】\n　NoviceLounge\n【イベント
 内容】\n　NoviceLounge深夜のお茶会。\n個性豊かなメイド
 達がおもてなしいたします。\n何なりとお申し付けくだ
 さい。\n\n接客の他、お掃除やメイド同士のやり取りも\
 nお楽しみいただけます。\n\n0:00からはお席を担当して
 いたメイド達も\n掃除や片付けをすることも。\n【イベ
 ントジャンル】\n　店舗系イベント\, ロールプレイ\n【
 参加条件（モデル、人数制限など）】\n　禁止事項\n・
 公序良俗に反する行為\n・視界ジャック\n・高負荷のパ
 ーティクル\n・NSFW\n・その他、他の参加者への迷惑にな
 り得る行為\n上記等の迷惑行為が確認されたのち\n注意
 ・警告後も改善されない場合は\n当グループイベントへ
 の参加を\nお断りさせて頂く事がございます。\n【参加
 方法】\n　グループ「Novice Lounge(ID:BARG.2919)」に参加後\n
 グループインスタンスにjoin\nworld名: Senelis(Garden)\nhttps://
 t.co/pbshwCusTW\n【備考】\n　同じグループで「初心者交流
 場Bar爺」というイベントが\n22時より開いていることが
 あります。\nイベント中のキャストへのフレンド申請は
 お断りします。
LOCATION:
END:VEVENT
END:VCALENDAR
