BEGIN:VCALENDAR
VERSION:2.0
PRODID:-//chikkutakku.com//RDFCal 1.0//EN
X-WR-CALDESC:GoogleカレンダーやiCalendar形式情報を共有シェ
 アしましょう。近所のイベントから全国のイベントま
 で今日のイベント検索やスケジュールを決めるならち
 っくたっく
X-WR-CALNAME:ちっくたっく
X-WR-TIMEZONE:UTC
BEGIN:VEVENT
SUMMARY:火災報告取扱要領ハンドブック（令和8年版）
DTSTART;VALUE=DATE:20260429
DTEND;VALUE=DATE:20260430
UID:105602906719
DESCRIPTION:2026-04火災報告取扱要領ハンドブック（令和8年
 版）防災行政研究会東京法令出版
LOCATION:
END:VEVENT
END:VCALENDAR
