BEGIN:VCALENDAR
VERSION:2.0
PRODID:-//chikkutakku.com//RDFCal 1.0//EN
X-WR-CALDESC:GoogleカレンダーやiCalendar形式情報を共有シェ
 アしましょう。近所のイベントから全国のイベントま
 で今日のイベント検索やスケジュールを決めるならち
 っくたっく
X-WR-CALNAME:ちっくたっく
X-WR-TIMEZONE:UTC
BEGIN:VEVENT
SUMMARY:【Android 対応】VRC美肌部 定期交流会
DTSTART;VALUE=DATE-TIME:20260519T130000Z
DTEND;VALUE=DATE-TIME:20260519T140000Z
UID:105640120870
DESCRIPTION:【イベント主催者】\n　\n【イベント内容】\n
 　\n【イベントジャンル】\n　\n【参加条件（モデル、
 人数制限など）】\n　\n【参加方法】\n　\n【備考】\n　
LOCATION:
END:VEVENT
END:VCALENDAR
