BEGIN:VCALENDAR
VERSION:2.0
PRODID:-//chikkutakku.com//RDFCal 1.0//EN
X-WR-CALDESC:GoogleカレンダーやiCalendar形式情報を共有シェ
 アしましょう。近所のイベントから全国のイベントま
 で今日のイベント検索やスケジュールを決めるならち
 っくたっく
X-WR-CALNAME:ちっくたっく
X-WR-TIMEZONE:UTC
BEGIN:VEVENT
SUMMARY:ひとりぼっちの異世界攻略　life.18　因習の彼方
 に
DTSTART;VALUE=DATE:20260419
DTEND;VALUE=DATE:20260420
UID:105912418584
DESCRIPTION:2026-04-20ひとりぼっちの異世界攻略　life.18　因
 習の彼方に五示正司/榎丸さくオーバーラップ
LOCATION:
END:VEVENT
END:VCALENDAR
