BEGIN:VCALENDAR
VERSION:2.0
PRODID:-//chikkutakku.com//RDFCal 1.0//EN
X-WR-CALDESC:GoogleカレンダーやiCalendar形式情報を共有シェ
 アしましょう。近所のイベントから全国のイベントま
 で今日のイベント検索やスケジュールを決めるならち
 っくたっく
X-WR-CALNAME:ちっくたっく
X-WR-TIMEZONE:UTC
BEGIN:VEVENT
SUMMARY:【新】仮面ライダーアギト #1 「戦士の覚醒」
DTSTART;VALUE=DATE-TIME:20260421T100000Z
DTEND;VALUE=DATE-TIME:20260421T103000Z
UID:106594304445
DESCRIPTION:1 / 戦士の覚醒 / 
LOCATION:TOKYO MX
END:VEVENT
END:VCALENDAR
