BEGIN:VCALENDAR
VERSION:2.0
PRODID:-//chikkutakku.com//RDFCal 1.0//EN
X-WR-CALDESC:GoogleカレンダーやiCalendar形式情報を共有シェ
 アしましょう。近所のイベントから全国のイベントま
 で今日のイベント検索やスケジュールを決めるならち
 っくたっく
X-WR-CALNAME:ちっくたっく
X-WR-TIMEZONE:UTC
BEGIN:VEVENT
SUMMARY:第一回　銀杏集会
DTSTART;VALUE=DATE-TIME:20260502T123000Z
DTEND;VALUE=DATE-TIME:20260502T140000Z
UID:106848787178
DESCRIPTION:【イベント主催者】\n　Hayate Mitaka\n【イベント
 内容】\n　オリジナル3Dモデル「銀杏」オーナーのアバ
 ター交流会です。\n大したことはしませんので、ゆっく
 り流れる時間をお楽しみください。\n\nスタッフ：Hayate 
 Mitaka（作者）・レンレン（居酒屋和み）・猪野霧月（
 ぷぷりえ）\n【イベントジャンル】\n　アバター試着会\
 , 改変アバター交流会\, その他交流会\, 初心者向けイベ
 ント\n【参加条件（モデル、人数制限など）】\n　オリ
 ジナル3Dモデル「銀杏」が気になっている、好きで仕方
 ない、所持している、イベント等でご縁があったかた
 。\n銀杏の姿であることは求めません。\nパフォーマン
 スランク制限は設けませんが、軽いに超したことはあ
 りません。\n【参加方法】\n　銀杏の会 Group インスタン
 ス に JOIN\n事前にグループに入っている必要があります
 。\n【備考】\n　作者常駐予定。質問やトラブルシュー
 トを受け付けます。サンプルアバターが必要なときは
 お申し付けください。\n会話相手がいない、孤独を感じ
 たときは、会場を離れるまえに　三鷹・レンレン・猪
 野　のもとに来てください。
LOCATION:
END:VEVENT
END:VCALENDAR
