BEGIN:VCALENDAR
VERSION:2.0
PRODID:-//chikkutakku.com//RDFCal 1.0//EN
X-WR-CALDESC:GoogleカレンダーやiCalendar形式情報を共有シェ
 アしましょう。近所のイベントから全国のイベントま
 で今日のイベント検索やスケジュールを決めるならち
 っくたっく
X-WR-CALNAME:ちっくたっく
X-WR-TIMEZONE:UTC
BEGIN:VEVENT
SUMMARY:【Android 対応】ゲーマー向け交流イベントSpinel＇s
  Bar
DTSTART;VALUE=DATE-TIME:20260421T130000Z
DTEND;VALUE=DATE-TIME:20260421T140000Z
UID:107318103362
DESCRIPTION:【イベント主催者】\n　SpinelSC\n【イベント内
 容】\n　色んなゲームについて色々話していく雑談イベ
 ント、ゲーマーであればジャンル問わず誰でも歓迎。
 特定のゲームのフレンド募集やゲーム布教目的でも気
 軽にどうぞ。\n注意事項：本イベント中での配信、およ
 び動画の録画はご遠慮願います。\n【イベントジャンル
 】\n　その他交流会\, 店舗系イベント\, 定期イベント\n
 【参加条件（モデル、人数制限など）】\n　\n【参加方
 法】\n　グループ＋、グループへの参加はこちら https://
 vrc.group/SPBAR.3035\n【備考】\n　
LOCATION:
END:VEVENT
END:VCALENDAR
