BEGIN:VCALENDAR
VERSION:2.0
PRODID:-//chikkutakku.com//RDFCal 1.0//EN
X-WR-CALDESC:GoogleカレンダーやiCalendar形式情報を共有シェ
 アしましょう。近所のイベントから全国のイベントま
 で今日のイベント検索やスケジュールを決めるならち
 っくたっく
X-WR-CALNAME:ちっくたっく
X-WR-TIMEZONE:UTC
BEGIN:VEVENT
SUMMARY:[作業/雑談]ゆるブレイク
DTSTART;VALUE=DATE-TIME:20260422T010000Z
DTEND;VALUE=DATE-TIME:20260422T030000Z
UID:107319294075
DESCRIPTION:【イベント主催者】\n　KaeDe64\n【イベント内容
 】\n　おはようございます！\nレトロダイナー＆バー風
 イベント「ゆるブレイク」です。\n\n店主ひとりで、朝1
 0時ごろからゆる〜く気ままにオープン。\n出入り自由
 で、作業したり、雑談したり、ぼーっとしたり、過ご
 し方はおまかせ！\n\n気が向いたら、ふらっと遊びに来
 てください！\n【イベントジャンル】\n　店舗系イベン
 ト\n【参加条件（モデル、人数制限など）】\n　1〜2人
 での入店を推奨しております。\n3人席もあります。\n【
 参加方法】\n　グループID[ YURUB.8504 ]からグループへの
 参加後、グループのインスタンスにJoin！\n【備考】\n　
 店主へのフレンド申請OK！\n店内での撮影、Xに感想投稿
 もぜひ！(他のお客様への配慮は忘れずに)\n\n•過度に
 大きすぎる、小さすぎるアバターの使用はお控えくだ
 さい。\n\n•過度なパーティクル、過剰な音を発するア
 バターの使用は禁止です。\n\n•ダウンロードサイズが5
 0MB以下アバターの使用にご協力をお願いします。\n\n•N
 FSWに抵触するアバターの使用、それにあたる行為は禁
 止です。
LOCATION:
END:VEVENT
END:VCALENDAR
