BEGIN:VCALENDAR
VERSION:2.0
PRODID:-//chikkutakku.com//RDFCal 1.0//EN
X-WR-CALDESC:GoogleカレンダーやiCalendar形式情報を共有シェ
 アしましょう。近所のイベントから全国のイベントま
 で今日のイベント検索やスケジュールを決めるならち
 っくたっく
X-WR-CALNAME:ちっくたっく
X-WR-TIMEZONE:UTC
BEGIN:VEVENT
SUMMARY:【Android 対応】喫茶エビの隠れ家
DTSTART;VALUE=DATE-TIME:20260424T130000Z
DTEND;VALUE=DATE-TIME:20260424T140000Z
UID:107416687263
DESCRIPTION:【イベント主催者】\n　tomo087\n【イベント内容
 】\n　エビのマスターがいる隠れ家的カフェ\n落ち着い
 た雰囲気の中でゆったりと過ごせる小さな喫茶店。\n優
 しい時間が流れる店内では、エビのマスターがそっと
 お出迎えします。\n賑やかな世界から少し離れて、心を
 ほどく場所。\n誰かと語らうのもよし、ひとりでのんび
 りするのもよし。\nあなたも、エビの隠れ家で穏やかな
 時間を過ごしてみませんか？\n【イベントジャンル】\n
 　店舗系イベント\n【参加条件（モデル、人数制限など
 ）】\n　・店主がエビなだけで他の人に迷惑にならなけ
 ればどんなアバターでもOK\n・途中退出、途中参加OK\n・
 迷惑行為等何度も見かけた場合はしかるべき対応を取
 らさせていただきます\n【参加方法】\n　グループ＋で
 開催するので参加される方は事前にグループへの加入
 をお願いします。\nhttps://vrc.group/EBI.6552\n【備考】\n　
LOCATION:
END:VEVENT
END:VCALENDAR
