BEGIN:VCALENDAR
VERSION:2.0
PRODID:-//chikkutakku.com//RDFCal 1.0//EN
X-WR-CALDESC:GoogleカレンダーやiCalendar形式情報を共有シェ
 アしましょう。近所のイベントから全国のイベントま
 で今日のイベント検索やスケジュールを決めるならち
 っくたっく
X-WR-CALNAME:ちっくたっく
X-WR-TIMEZONE:UTC
BEGIN:VEVENT
SUMMARY:モンスター・ホテルシリーズ第3期（既6巻セット
 ）
DTSTART;VALUE=DATE:20260429
DTEND;VALUE=DATE:20260430
UID:108447997245
DESCRIPTION:2026-04モンスター・ホテルシリーズ第3期（既6
 巻セット）柏葉幸子/高畠純小峰書店
LOCATION:
END:VEVENT
END:VCALENDAR
