BEGIN:VCALENDAR
VERSION:2.0
PRODID:-//chikkutakku.com//RDFCal 1.0//EN
X-WR-CALDESC:GoogleカレンダーやiCalendar形式情報を共有シェ
 アしましょう。近所のイベントから全国のイベントま
 で今日のイベント検索やスケジュールを決めるならち
 っくたっく
X-WR-CALNAME:ちっくたっく
X-WR-TIMEZONE:UTC
BEGIN:VEVENT
SUMMARY:End of 4th Qtr 2nd Semester
DTSTART;VALUE=DATE:20260518
DTEND;VALUE=DATE:20260519
UID:108598390719
DESCRIPTION:End of 4th Qtr 2nd Semester
LOCATION:
END:VEVENT
END:VCALENDAR
