BEGIN:VCALENDAR
VERSION:2.0
PRODID:-//chikkutakku.com//RDFCal 1.0//EN
X-WR-CALDESC:GoogleカレンダーやiCalendar形式情報を共有シェ
 アしましょう。近所のイベントから全国のイベントま
 で今日のイベント検索やスケジュールを決めるならち
 っくたっく
X-WR-CALNAME:ちっくたっく
X-WR-TIMEZONE:UTC
BEGIN:VEVENT
SUMMARY:成年後見人が判断に迷う 関係者からの連絡・要
 求 対応のポイントー被後見人の親族、医療・介護関係
 者等ー
DTSTART;VALUE=DATE:20260422
DTEND;VALUE=DATE:20260423
UID:108834153727
DESCRIPTION:2026-04-23成年後見人が判断に迷う 関係者からの
 連絡・要求 対応のポイントー被後見人の親族、医療・
 介護関係者等ー土肥 尚子/三森 敏明/坂井 崇徳/奥田 大
 介/瀬谷 ひろみ/生駒 真菜新日本法規出版
LOCATION:
END:VEVENT
END:VCALENDAR
