BEGIN:VCALENDAR
VERSION:2.0
PRODID:-//chikkutakku.com//RDFCal 1.0//EN
X-WR-CALDESC:GoogleカレンダーやiCalendar形式情報を共有シェ
 アしましょう。近所のイベントから全国のイベントま
 で今日のイベント検索やスケジュールを決めるならち
 っくたっく
X-WR-CALNAME:ちっくたっく
X-WR-TIMEZONE:UTC
BEGIN:VEVENT
SUMMARY:plusHead喫茶パナマルチャンバー
DTSTART;VALUE=DATE-TIME:20260423T150000Z
DTEND;VALUE=DATE-TIME:20260423T153000Z
UID:109743278333
DESCRIPTION:【イベント主催者】\n　奈良穂　ルカ\n【イベ
 ント内容】\n　plusHeadアバターイメージドリンクを提供
 する喫茶イベント\nプレオープン1回目\n【イベントジャ
 ンル】\n　店舗系イベント\n【参加条件（モデル、人数
 制限など）】\n　インスタンス人数16人\n【参加方法】\n
 　グループへ参加\nhttps://vrc.group/PNML.6692\n【備考】\n　
LOCATION:
END:VEVENT
END:VCALENDAR
