BEGIN:VCALENDAR
VERSION:2.0
PRODID:-//chikkutakku.com//RDFCal 1.0//EN
X-WR-CALDESC:GoogleカレンダーやiCalendar形式情報を共有シェ
 アしましょう。近所のイベントから全国のイベントま
 で今日のイベント検索やスケジュールを決めるならち
 っくたっく
X-WR-CALNAME:ちっくたっく
X-WR-TIMEZONE:UTC
BEGIN:VEVENT
SUMMARY:メイド喫茶リーリエ❗️
DTSTART;VALUE=DATE-TIME:20260424T125000Z
DTEND;VALUE=DATE-TIME:20260424T140000Z
UID:109904786946
DESCRIPTION:【イベント主催者】\n　AZUKI\n【イベント内容
 】\n　妖精の王国＿＿🏰‪‪❤︎‬ ．！！リーリエ\n
 そこに迷い込んだご主人様達を癒します❗️\n個性豊か
 な可愛いメイドさんがたくさん♡\nメイドとご主人様だ
 けの特別な体験を！\nご帰宅お待ちしております‼️\n
 【イベントジャンル】\n　店舗系イベント\, ロールプレ
 イ\, 定期イベント\n【参加条件（モデル、人数制限など
 ）】\n　40mg以下のアバターでの参加をお願いします。
 また、高すぎるアバターや小さすぎるアバターでの参
 加はおやめ下さい。\n【参加方法】\n　21時50分になりま
 したらリーリエのアカウントにリクインをお願いしま
 す。⬇️\nhttps://vrchat.com/home/user/usr_0fea6200-cc1a-4d3a-95a4-487
 36026af6f\n【備考】\n　
LOCATION:
END:VEVENT
END:VCALENDAR
