BEGIN:VCALENDAR
VERSION:2.0
PRODID:-//chikkutakku.com//RDFCal 1.0//EN
X-WR-CALDESC:GoogleカレンダーやiCalendar形式情報を共有シェ
 アしましょう。近所のイベントから全国のイベントま
 で今日のイベント検索やスケジュールを決めるならち
 っくたっく
X-WR-CALNAME:ちっくたっく
X-WR-TIMEZONE:UTC
BEGIN:VEVENT
SUMMARY:科学ワールド巡り【Join先：Group"かげんしけん" or 
 えぬふぇあ（洗礼さん）】
DTSTART;VALUE=DATE-TIME:20260427T120000Z
DTEND;VALUE=DATE-TIME:20260427T130000Z
UID:110280891323
DESCRIPTION:【イベント主催者】\n　えぬふぇあ（洗礼さん
 ）\n【イベント内容】\n　主催者が毎回別の科学ワール
 ドを紹介するワールド巡りイベントです\n【イベントジ
 ャンル】\n　定期イベント\n【参加条件（モデル、人数
 制限など）】\n　特になし。話したい方、聞きたい方ど
 ちらも歓迎です。\n【参加方法】\n　Join先 : Group"かげん
 しけん"加入 または、えぬふぇあ（洗礼さん）\n【備考
 】\n　主催者Twitter(現X)アカウント https://x.com/nfeawonfoawe\n
 主催者VRChatアカウント https://vrchat.com/home/user/usr_606c4863-b
 700-4b0f-8804-3ee55a0fba48\nかげんしけんDiscordサーバーもよろ
 しく https://discord.gg/fHKwRwebvC \nかげんしけんグループ http
 s://vrc.group/SCIWLD.1628 
LOCATION:
END:VEVENT
END:VCALENDAR
