BEGIN:VCALENDAR
VERSION:2.0
PRODID:-//chikkutakku.com//RDFCal 1.0//EN
X-WR-CALDESC:GoogleカレンダーやiCalendar形式情報を共有シェ
 アしましょう。近所のイベントから全国のイベントま
 で今日のイベント検索やスケジュールを決めるならち
 っくたっく
X-WR-CALNAME:ちっくたっく
X-WR-TIMEZONE:UTC
BEGIN:VEVENT
SUMMARY: 埼玉 vs 立川
DTSTART;VALUE=DATE-TIME:20260424T100500Z
DTEND;VALUE=DATE-TIME:20260424T120500Z
UID:111592106131
DESCRIPTION:
LOCATION:所沢市民体育館
END:VEVENT
END:VCALENDAR
