BEGIN:VCALENDAR
VERSION:2.0
PRODID:-//chikkutakku.com//RDFCal 1.0//EN
X-WR-CALDESC:GoogleカレンダーやiCalendar形式情報を共有シェ
 アしましょう。近所のイベントから全国のイベントま
 で今日のイベント検索やスケジュールを決めるならち
 っくたっく
X-WR-CALNAME:ちっくたっく
X-WR-TIMEZONE:UTC
BEGIN:VEVENT
SUMMARY:【オンライン講演会】国際マカクウィーク特別イ
 ベント　シシオザル －動物園とインドの森をつなぐ－
DTSTART;VALUE=DATE-TIME:20260502T050000Z
DTEND;VALUE=DATE-TIME:20260502T060000Z
UID:111864678947
DESCRIPTION:5月1日～7日は”国際マカクウィーク”🐒マカ
 ク（霊長目オナガザル科マカク属のサルのなかま）に
 ついて知り、保全を推進するための国際的なキャンペ
 ーンです❣オンラインセミナーとして、日本の動物園
 のシシオザルのこと、野生で暮らすインドのシシオザ
 ルのようすを紹介🌳🌳お話の内容は…「シシオザルに
 活き活きと暮らしてもらう～飼育管理の工夫～」「私
 が出会った野生のシシオザル」インドの研究者からの
 メッセージも紹介予定🤭YouTube配信はコチラ↓↓https://y
 outube.com/live/l1D-86XeWf0?feature=share
LOCATION:YouTube
END:VEVENT
END:VCALENDAR
