BEGIN:VCALENDAR
VERSION:2.0
PRODID:-//chikkutakku.com//RDFCal 1.0//EN
X-WR-CALDESC:GoogleカレンダーやiCalendar形式情報を共有シェ
 アしましょう。近所のイベントから全国のイベントま
 で今日のイベント検索やスケジュールを決めるならち
 っくたっく
X-WR-CALNAME:ちっくたっく
X-WR-TIMEZONE:UTC
BEGIN:VEVENT
SUMMARY:【注】勇者パーティーにかわいい子がいたので、
 告白してみた。 #1 告白してみた。 / #2 デートしてみた
 。 / #3 恋愛相談を受けてみた。 / #4 勇者に説教してみ
 た。 / #5 魔族に戻ってみた。 / #6 空を飛んでみた。 / #7
  チョコをもらってみた。 / #8 人魚を救ってみた。 / #9 
 好きな子のことを知ってみた。 / #10 守り神の悩みを聞
 いてみた。 / #11 友人と元部下を見守ってみた。 / #12 好
 きな子のお見合い話を聞いてみた。 / #13 好きな子と…
 …になってみた。
DTSTART;VALUE=DATE-TIME:20260419T170000Z
DTEND;VALUE=DATE-TIME:20260419T233000Z
UID:111934385729
DESCRIPTION: / #1 告白してみた。 / #2 デートしてみた。 / #3
  恋愛相談を受けてみた。 / #4 勇者に説教してみた。 / #
 5 魔族に戻ってみた。 / #6 空を飛んでみた。 / #7 チョコ
 をもらってみた。 / #8 人魚を救ってみた。 / #9 好きな
 子のことを知ってみた。 / #10 守り神の悩みを聞いてみ
 た。 / #11 友人と元部下を見守ってみた。 / #12 好きな子
 のお見合い話を聞いてみた。 / #13 好きな子と……にな
 ってみた。 / ([[異世界・ファンタジー3 https://abema.tv/time
 table/channels/isekai-anime-3]]) https://abema.tv/channels/isekai-anime-3/
 slots/AMZ9JZLT1R1MHH リピート放送は 4/20(月) 15:00～ https://abem
 a.tv/channels/isekai-anime-3/slots/EvABME2dZwV9xj (無料TS1週間)
LOCATION:ABEMA特設その他
END:VEVENT
END:VCALENDAR
