BEGIN:VCALENDAR
VERSION:2.0
PRODID:-//chikkutakku.com//RDFCal 1.0//EN
X-WR-CALDESC:GoogleカレンダーやiCalendar形式情報を共有シェ
 アしましょう。近所のイベントから全国のイベントま
 で今日のイベント検索やスケジュールを決めるならち
 っくたっく
X-WR-CALNAME:ちっくたっく
X-WR-TIMEZONE:UTC
BEGIN:VEVENT
SUMMARY:俳文学会東京研究例会：第484回（2026年4月25日（
 土）午後2時30分～午後5時、江東区芭蕉記念館会議室）
DTSTART;VALUE=DATE:20260424
DTEND;VALUE=DATE:20260425
UID:112054267558
DESCRIPTION:https://bungaku-report.com/blog/2026/04/48420264252305.html
LOCATION:
END:VEVENT
END:VCALENDAR
