BEGIN:VCALENDAR
VERSION:2.0
PRODID:-//chikkutakku.com//RDFCal 1.0//EN
X-WR-CALDESC:GoogleカレンダーやiCalendar形式情報を共有シェ
 アしましょう。近所のイベントから全国のイベントま
 で今日のイベント検索やスケジュールを決めるならち
 っくたっく
X-WR-CALNAME:ちっくたっく
X-WR-TIMEZONE:UTC
BEGIN:VEVENT
SUMMARY:R213-實驗室報告 (農化/何佳安)
DTSTART;VALUE=DATE-TIME:20260427T080000Z
DTEND;VALUE=DATE-TIME:20260427T120000Z
UID:112082136180
DESCRIPTION:R213-實驗室報告 (農化/何佳安)
LOCATION:
END:VEVENT
END:VCALENDAR
