BEGIN:VCALENDAR
VERSION:2.0
PRODID:-//chikkutakku.com//RDFCal 1.0//EN
X-WR-CALDESC:GoogleカレンダーやiCalendar形式情報を共有シェ
 アしましょう。近所のイベントから全国のイベントま
 で今日のイベント検索やスケジュールを決めるならち
 っくたっく
X-WR-CALNAME:ちっくたっく
X-WR-TIMEZONE:UTC
BEGIN:VEVENT
SUMMARY:タイ料理教室ティッチャイのカレーと麺
DTSTART;VALUE=DATE:20260507
DTEND;VALUE=DATE:20260508
UID:112492731438
DESCRIPTION:2026-05-08タイ料理教室ティッチャイのカレーと
 麺長澤 恵（May）グラフィック社
LOCATION:
END:VEVENT
END:VCALENDAR
