BEGIN:VCALENDAR
VERSION:2.0
PRODID:-//chikkutakku.com//RDFCal 1.0//EN
X-WR-CALDESC:GoogleカレンダーやiCalendar形式情報を共有シェ
 アしましょう。近所のイベントから全国のイベントま
 で今日のイベント検索やスケジュールを決めるならち
 っくたっく
X-WR-CALNAME:ちっくたっく
X-WR-TIMEZONE:UTC
BEGIN:VEVENT
SUMMARY:じけんぼ2 消えたパンダ先生
DTSTART;VALUE=DATE:20260520
DTEND;VALUE=DATE:20260521
UID:112735286934
DESCRIPTION:2026-05-21じけんぼ2 消えたパンダ先生ペク・ミ
 ョンシク/立花義裕/鷹野文子Gakken
LOCATION:
END:VEVENT
END:VCALENDAR
