BEGIN:VCALENDAR
VERSION:2.0
PRODID:-//chikkutakku.com//RDFCal 1.0//EN
X-WR-CALDESC:GoogleカレンダーやiCalendar形式情報を共有シェ
 アしましょう。近所のイベントから全国のイベントま
 で今日のイベント検索やスケジュールを決めるならち
 っくたっく
X-WR-CALNAME:ちっくたっく
X-WR-TIMEZONE:UTC
BEGIN:VEVENT
SUMMARY:喫茶-夕凪-
DTSTART;VALUE=DATE-TIME:20260422T070000Z
DTEND;VALUE=DATE-TIME:20260422T090000Z
UID:112784411069
DESCRIPTION:【イベント主催者】\n　四面そか\n【イベント
 内容】\n　誰かと一緒に過ごしたい、そんな想いを抱く
 皆様を自称中声のオーナーがお迎えする雑談イベント
 です\n初心者様も経験者様も是非ご来店ください\n【イ
 ベントジャンル】\n　その他交流会\, 初心者向けイベン
 ト\n【参加条件（モデル、人数制限など）】\n　どなた
 でもご参加いただけます\n\n注意事項 \n・版権に関わる
 アバターでのご来店はやめてください。 \n・センシテ
 ィブなアバターや行動はやめてください。 \n・巨大な
 アバターや過度なパーティクル、視界ジャックの使用
 はやめてください。 \n・他人に触れる際や写真を撮る
 際は相手に確認をとってください。\n ・フレンド申請
 を行う場合は相手に確認をとってください。 \n・確認
 のないイベントの録画、配信はご遠慮ください。\n【参
 加方法】\n　リンクにある喫茶夕凪のグループにご参加
 のうえ営業時間中にJoinしてください。\nインスタンス
 はGroup+で開きます。\n【備考】\n　https://vrchat.com/home/grou
 p/grp_d1c44270-a7c0-49f5-85fd-c7aa29db27ca
LOCATION:
END:VEVENT
END:VCALENDAR
