BEGIN:VCALENDAR
VERSION:2.0
PRODID:-//chikkutakku.com//RDFCal 1.0//EN
X-WR-CALDESC:GoogleカレンダーやiCalendar形式情報を共有シェ
 アしましょう。近所のイベントから全国のイベントま
 で今日のイベント検索やスケジュールを決めるならち
 っくたっく
X-WR-CALNAME:ちっくたっく
X-WR-TIMEZONE:UTC
BEGIN:VEVENT
SUMMARY:HS Co-Ed Bball vs. New Tech
DTSTART;VALUE=DATE-TIME:20260427T230000Z
DTEND;VALUE=DATE-TIME:20260428T003000Z
UID:113207961805
DESCRIPTION:Counted as an AWAY game.HS Co-Ed Basketball Schedule has been 
 updated. Coach is Aaron Williams and is reachable by phone (916)308-9951.
LOCATION:School of Engineering & Sciences\, 7345 Gloria Dr\, Sacramento\, 
 CA 95831\, USA
END:VEVENT
END:VCALENDAR
