BEGIN:VCALENDAR
VERSION:2.0
PRODID:-//chikkutakku.com//RDFCal 1.0//EN
X-WR-CALDESC:GoogleカレンダーやiCalendar形式情報を共有シェ
 アしましょう。近所のイベントから全国のイベントま
 で今日のイベント検索やスケジュールを決めるならち
 っくたっく
X-WR-CALNAME:ちっくたっく
X-WR-TIMEZONE:UTC
BEGIN:VEVENT
SUMMARY:★おはよう関西 4/22(水)7:45-8:00 ＮＨＫ総合(近畿広
 域圏 Ch.1)
DTSTART;VALUE=DATE-TIME:20260421T224500Z
DTEND;VALUE=DATE-TIME:20260421T230000Z
UID:113320309475
DESCRIPTION:★おはよう関西\n4/22(水)7:45-8:00 ＮＨＫ総合(近
 畿広域圏 Ch.1)\n赤松を焚（た）き、その煤（すす）を一
 粒ずつ集めて生まれる「紀州松煙墨」を作る日本唯一
 の職人・堀池雅夫さん。今年２月、堀池さんの手がけ
 る「紀州墨」が、優れた県産品を認定する新制度「和
 歌山一番星アワード」に選ばれた。堀池さんが受け継
 ぐ伝統の技と、新たに生み出した色付きの墨「彩煙墨
 （さいえんぼく）」の魅力に迫る。さらに、墨絵教室
 や作品展を通して、墨の世界を広げようと活動する姿
 を紹介する。\nhttps://www.web.nhk/tv/an/osaka-ohayou/
LOCATION:
END:VEVENT
END:VCALENDAR
