BEGIN:VCALENDAR
VERSION:2.0
PRODID:-//chikkutakku.com//RDFCal 1.0//EN
X-WR-CALDESC:GoogleカレンダーやiCalendar形式情報を共有シェ
 アしましょう。近所のイベントから全国のイベントま
 で今日のイベント検索やスケジュールを決めるならち
 っくたっく
X-WR-CALNAME:ちっくたっく
X-WR-TIMEZONE:UTC
BEGIN:VEVENT
SUMMARY:【注】現実主義勇者の王国再建記 #1 まず勇者よ
 り始めよ / #2 ただ才あらば用いる / #3 臣をして忠臣た
 らしむことなかれ / #4 食指、動く / #5 衣食足って、栄
 辱を知る / #6 智者は時にそむいて利を捨てず / #7 古老
 、曰く / #8 森、鳴動す / #9 縦横、成らず / #10 兵は楽し
 む所に非ざるなり / #11 李代桃僵 / #12 囲師には必ず闕(
 ひら)く / #13 百戦百勝は善の善なる者に非ず
DTSTART;VALUE=DATE-TIME:20260425T093000Z
DTEND;VALUE=DATE-TIME:20260425T160000Z
UID:113342410962
DESCRIPTION: / #1 まず勇者より始めよ / #2 ただ才あらば用
 いる / #3 臣をして忠臣たらしむことなかれ / #4 食指、
 動く / #5 衣食足って、栄辱を知る / #6 智者は時にそむ
 いて利を捨てず / #7 古老、曰く / #8 森、鳴動す / #9 縦
 横、成らず / #10 兵は楽しむ所に非ざるなり / #11 李代桃
 僵 / #12 囲師には必ず闕(ひら)く / #13 百戦百勝は善の善
 なる者に非ず / https://abema.tv/channels/isekai-anime/slots/Ah77pSV5
 YTJ2UP リピート放送は 4/26(日) 13:30～ https://abema.tv/channels/
 isekai-anime/slots/Ah77oXdaQV8ctF (無料TS1週間)
LOCATION:異世界ファンタジー
END:VEVENT
END:VCALENDAR
