BEGIN:VCALENDAR
VERSION:2.0
PRODID:-//chikkutakku.com//RDFCal 1.0//EN
X-WR-CALDESC:GoogleカレンダーやiCalendar形式情報を共有シェ
 アしましょう。近所のイベントから全国のイベントま
 で今日のイベント検索やスケジュールを決めるならち
 っくたっく
X-WR-CALNAME:ちっくたっく
X-WR-TIMEZONE:UTC
BEGIN:VEVENT
SUMMARY:ぽこ あ ポケモン ぷっくり ハイブリッドポーチ f
 or Nintendo Switch™ 2
DTSTART;VALUE=DATE:20260429
DTEND;VALUE=DATE:20260430
UID:114209683549
DESCRIPTION:2026-04ぽこ あ ポケモン ぷっくり ハイブリッド
 ポーチ for Nintendo Switch™ 2HORI
LOCATION:
END:VEVENT
END:VCALENDAR
