BEGIN:VCALENDAR
VERSION:2.0
PRODID:-//chikkutakku.com//RDFCal 1.0//EN
X-WR-CALDESC:GoogleカレンダーやiCalendar形式情報を共有シェ
 アしましょう。近所のイベントから全国のイベントま
 で今日のイベント検索やスケジュールを決めるならち
 っくたっく
X-WR-CALNAME:ちっくたっく
X-WR-TIMEZONE:UTC
BEGIN:VEVENT
SUMMARY:Junior Cross Country Event 3 (mass start). 9am start at Bradbury o
 val.
DTSTART;VALUE=DATE-TIME:20260425T230000Z
DTEND;VALUE=DATE-TIME:20260426T000000Z
UID:114263879217
DESCRIPTION:Junior Cross Country Event 3 (mass start). 9am start at Bradbu
 ry oval.
LOCATION:
END:VEVENT
END:VCALENDAR
