BEGIN:VCALENDAR
VERSION:2.0
PRODID:-//chikkutakku.com//RDFCal 1.0//EN
X-WR-CALDESC:GoogleカレンダーやiCalendar形式情報を共有シェ
 アしましょう。近所のイベントから全国のイベントま
 で今日のイベント検索やスケジュールを決めるならち
 っくたっく
X-WR-CALNAME:ちっくたっく
X-WR-TIMEZONE:UTC
BEGIN:VEVENT
SUMMARY:池袋練習（ミントスタジオ）
DTSTART;VALUE=DATE-TIME:20260509T031000Z
DTEND;VALUE=DATE-TIME:20260509T045000Z
UID:114697576512
DESCRIPTION:通常のサニたま練習\n会場：池袋ミントスタジ
 オ（いつもの練習会場）\nアクセス：池袋北口から徒歩
 8分
LOCATION:ミントスタジオ（池袋）
END:VEVENT
END:VCALENDAR
