BEGIN:VCALENDAR
VERSION:2.0
PRODID:-//chikkutakku.com//RDFCal 1.0//EN
X-WR-CALDESC:GoogleカレンダーやiCalendar形式情報を共有シェ
 アしましょう。近所のイベントから全国のイベントま
 で今日のイベント検索やスケジュールを決めるならち
 っくたっく
X-WR-CALNAME:ちっくたっく
X-WR-TIMEZONE:UTC
BEGIN:VEVENT
SUMMARY:愛犬が5歳を過ぎたら知りたいことが全部のって
 る本
DTSTART;VALUE=DATE:20260423
DTEND;VALUE=DATE:20260424
UID:114981938175
DESCRIPTION:2026-04-24愛犬が5歳を過ぎたら知りたいことが全
 部のってる本主婦の友社/三浦裕子/ねこまき(ミューズ
 ワーク)主婦の友社
LOCATION:
END:VEVENT
END:VCALENDAR
