BEGIN:VCALENDAR
VERSION:2.0
PRODID:-//chikkutakku.com//RDFCal 1.0//EN
X-WR-CALDESC:GoogleカレンダーやiCalendar形式情報を共有シェ
 アしましょう。近所のイベントから全国のイベントま
 で今日のイベント検索やスケジュールを決めるならち
 っくたっく
X-WR-CALNAME:ちっくたっく
X-WR-TIMEZONE:UTC
BEGIN:VEVENT
SUMMARY:「異端の悪妃」の私は喜んで捨てられましょう〜
 英雄と呼ばれた旦那様、どうやら貴方の活躍は私のお
 かげだったみたいですよ？〜
DTSTART;VALUE=DATE:20260506
DTEND;VALUE=DATE:20260507
UID:115087438796
DESCRIPTION:2026-05-07「異端の悪妃」の私は喜んで捨てられ
 ましょう〜英雄と呼ばれた旦那様、どうやら貴方の活
 躍は私のおかげだったみたいですよ？〜瑞希ちこスタ
 ーツ出版
LOCATION:
END:VEVENT
END:VCALENDAR
