BEGIN:VCALENDAR
VERSION:2.0
PRODID:-//chikkutakku.com//RDFCal 1.0//EN
X-WR-CALDESC:GoogleカレンダーやiCalendar形式情報を共有シェ
 アしましょう。近所のイベントから全国のイベントま
 で今日のイベント検索やスケジュールを決めるならち
 っくたっく
X-WR-CALNAME:ちっくたっく
X-WR-TIMEZONE:UTC
BEGIN:VEVENT
SUMMARY:นพ.สสจ.ร่วมออกหน่วยแพทย
 ์เคลื่อนที่ พอ.สว. จังหวัดเ
 พชรบูรณ์ ประจำเดือนเมษายน 
 2569
DTSTART;VALUE=DATE-TIME:20260424T020000Z
DTEND;VALUE=DATE-TIME:20260424T080000Z
UID:115227153325
DESCRIPTION:นพ.สสจ.ร่วมออกหน่วยแพท
 ย์เคลื่อนที่ พอ.สว. จังหวัด
 เพชรบูรณ์ ประจำเดือนเมษาย
 น 2569
LOCATION:วัดวังขอน\nต.คลองกระจัง 
 อ.ศรีเทพ
END:VEVENT
END:VCALENDAR
