BEGIN:VCALENDAR
VERSION:2.0
PRODID:-//chikkutakku.com//RDFCal 1.0//EN
X-WR-CALDESC:GoogleカレンダーやiCalendar形式情報を共有シェ
 アしましょう。近所のイベントから全国のイベントま
 で今日のイベント検索やスケジュールを決めるならち
 っくたっく
X-WR-CALNAME:ちっくたっく
X-WR-TIMEZONE:UTC
BEGIN:VEVENT
SUMMARY:【VRDJ】けむりクラブ #KEMURICLUB
DTSTART;VALUE=DATE-TIME:20260502T135000Z
DTEND;VALUE=DATE-TIME:20260502T173000Z
UID:115358643158
DESCRIPTION:【イベント主催者】\n　Crim Nanakusa\n【イベント
 内容】\n　Be aesthetic. ( 美的であれ。 ) / 2021年に開催し
 ていたVRDJイベント「Electrosheep」の後継イベントの初回
 となります。薄暗く落ち着いた狭めの空間でどこか懐
 かしさと温かみと、そして哀愁を纏ったLo-Fi Houseをメイ
 ンとします。GWの始まりに喧騒から離れた深夜の美しく
 、味わい深く、そんなフリーキーな空間に足を運んで
 みませんか。\n【イベントジャンル】\n　音楽系イベン
 ト\n【参加条件（モデル、人数制限など）】\n　一般的
 に他の人の迷惑となり得るような行為はお控えくださ
 い。\n【参加方法】\n　Join to : Crim Nanakusa or any DJ/VJs or Gr
 oup ( https://vrc.group/KEMURI.2750 )\n【備考】\n　https://x.com/crim
 7_vrc/status/2046151900169633829
LOCATION:
END:VEVENT
END:VCALENDAR
