BEGIN:VCALENDAR
VERSION:2.0
PRODID:-//chikkutakku.com//RDFCal 1.0//EN
X-WR-CALDESC:GoogleカレンダーやiCalendar形式情報を共有シェ
 アしましょう。近所のイベントから全国のイベントま
 で今日のイベント検索やスケジュールを決めるならち
 っくたっく
X-WR-CALNAME:ちっくたっく
X-WR-TIMEZONE:UTC
BEGIN:VEVENT
SUMMARY:サキヨミ！【おまけ描き下ろし付き】　5巻
DTSTART;VALUE=DATE:20260519
DTEND;VALUE=DATE:20260520
UID:116354981717
DESCRIPTION:2026-05-20サキヨミ！【おまけ描き下ろし付き】
 　5巻山口美由紀/七海　まち白泉社
LOCATION:
END:VEVENT
END:VCALENDAR
